BEGIN:VCALENDAR
VERSION:2.0
PRODID:-//ChamberMaster//Event Calendar 2.0//EN
METHOD:PUBLISH
X-PUBLISHED-TTL:P3D
REFRESH-INTERVAL:P3D
CALSCALE:GREGORIAN
BEGIN:VEVENT
DTSTART:20191114T183000Z
DTEND:20191114T201500Z
X-MICROSOFT-CDO-ALLDAYEVENT:FALSE
SUMMARY:Town of Canmore Transportation Plan Update
DESCRIPTION:Town of Canmore Transportation Plan Update\n\nThere are numerous transportation projects that the Town of Canmore is undertaking in 2020 and 2021. Come out to hear from Andy Esarte\, Manager of Engineering to get an understanding of what these projects are and how they will improve the transportation network of the Town.
X-ALT-DESC;FMTTYPE=text/html:<span style="font-size:12px\;"><span style="font-family:arial\;"><span style="color:black\;"><strong>Town of Canmore Transportation Plan Update</strong></span></span></span><br />\nThere are numerous transportation projects that the Town of Canmore is undertaking in 2020 and 2021. Come out to hear from Andy Esarte\, Manager of Engineering to get an understanding of what these projects are and how they will improve the transportation network of the Town.
LOCATION:Silvertip Resort Canmore\, Alberta
UID:e.9125.134
SEQUENCE:3
DTSTAMP:20260421T200848Z
URL:http://dev-bowda.chambermaster.com/events/details/town-of-canmore-transportation-plan-update-134
END:VEVENT

END:VCALENDAR
