BEGIN:VCALENDAR
VERSION:2.0
PRODID:-//ChamberMaster//Event Calendar 2.0//EN
METHOD:PUBLISH
X-PUBLISHED-TTL:P3D
REFRESH-INTERVAL:P3D
CALSCALE:GREGORIAN
BEGIN:VEVENT
DTSTART:20200910T173000Z
DTEND:20200910T193000Z
X-MICROSOFT-CDO-ALLDAYEVENT:FALSE
SUMMARY:Sept 10\, 2020 BOWDA Lunch
DESCRIPTION:We are very pleased to re-start BOWDA lunches on Sept 10\, 2020 when Todd Hirsch\, Chief Economist with ATB Financial who will join us virtually to give us an update on the economic outlook for Alberta in the wake of COVID-19. This will be a very enlightening presentation and will help you start planning your business based on what Alberta's economy will look like in the coming months and years.\n\n\n\nIf you are not comfortable in attending the lunch in person\, please register for the virtual lunch\, and you will be able to listen in to Todd's presentation.\n\n\n\nWe are also hosting a Golf Event after the Sept 10th lunch. If you would like to golf 9 holes at Silvertip\, please register here. This golf event will start with tee offs at 1:30pm. It is not a shotgun start\, so tee offs will be determined based on the number of golfers. There is no format\, and there are no prizes...it is a social event for those that would like to golf and enjoy some time with other BOWDA members. When you are finished\, feel free to spend some time at Stoney's for a drink and something to eat.
X-ALT-DESC;FMTTYPE=text/html:We are very pleased to re-start BOWDA lunches on Sept 10\, 2020 when Todd Hirsch\, Chief Economist with ATB Financial who will join us virtually to give us an update on the economic outlook for Alberta in the wake of COVID-19. This will be a very enlightening presentation and will help you start planning your business based on what Alberta&#39\;s economy will look like in the coming months and years.<br />\n<br />\nIf you are not comfortable in attending the lunch in person\, please register for the virtual lunch\, and you will be able to listen in to Todd&#39\;s presentation.<br />\n<br />\nWe are also hosting a Golf Event after the Sept 10th lunch. If you would like to golf 9 holes at Silvertip\, please <a href="http://business.bowda.ca/events/details/golf-event-bowda-sept-10-2020-150">register here</a>. This golf event will start with tee offs at 1:30pm. It is not a shotgun start\, so tee offs will be determined based on the number of golfers. There is no format\, and there are no prizes...it is a social event for those that would like to golf and enjoy some time with other BOWDA members. When you are finished\, feel free to spend some time at Stoney&#39\;s for a drink and something to eat.
LOCATION:Silvertip Resort\, Canmore\, AB. We will be restricting registration to 92 people\, and using 2 separate rooms to ensure that we are following all provincial regulations for gatherings. Face masks will be available for all attendees. There will be separate entrances depending on which room you will be in...please pay attention to the email that you will receive prior to the lunch outlining the new requirements.
UID:e.9125.149
SEQUENCE:3
DTSTAMP:20260422T100327Z
URL:http://dev-bowda.chambermaster.com/events/details/sept-10-2020-bowda-lunch-149
END:VEVENT

END:VCALENDAR
