BEGIN:VCALENDAR
VERSION:2.0
PRODID:-//ChamberMaster//Event Calendar 2.0//EN
METHOD:PUBLISH
X-PUBLISHED-TTL:P3D
REFRESH-INTERVAL:P3D
CALSCALE:GREGORIAN
BEGIN:VEVENT
DTSTART:20200224T153000Z
DTEND:20200225T233000Z
X-MICROSOFT-CDO-ALLDAYEVENT:FALSE
SUMMARY:Red Cross Standard First Aid with CPR
DESCRIPTION:Comprehensive two-day course offering first aid and cardiopulmonary resuscitation (CPR) skills for those who need training due to work requirements or who want more knowledge to respond to emergencies at home. Course meets legislation requirements for provincial/territorial worker safety and insurance boards and includes the latest first aid and CPR guidelines.\n\nRed Cross First Aid Instructor\n\nCompletion Requirements:\n\n\n	Ability to comprehend and successfully demonstrate all required skills\, including critical steps\;\n	100% attendance and participation\; 75% min. passing grade on a written\, closed book knowledge evaluation\; and adherence to the Fundamental Principles.\n\n\nCertification:\n\n\n	3-year certification in Standard First Aid\, CPR Level A or C\, and AED\n\n\nCourse Content\n\n\n	The Red Cross\n	Preparing to respond\n	The EMS system\n	Check\, Call\, Care\n	Airway emergencies\n	Breathing and Circulation emergencies\n	First aid for respiratory and cardiac arrest\n	Wound care\n	Head and spine injuries\n	Bone\, muscle and joint injuries\n	Sudden Medical Emergencies\n	Environmental Emergencies\n	Poisons\n	Includes any other content required by specific legislation
X-ALT-DESC;FMTTYPE=text/html:<p style="caret-color: rgb(0\, 0\, 0)\; color: rgb(0\, 0\, 0)\; font-size: 14px\; text-size-adjust: auto\; box-sizing: border-box\; margin: 0px 0px 1rem\; padding: 0px\; font-family: &quot\;Open Sans&quot\;\, Arial\, sans-serif\; line-height: 1.6\;"><span style="font-size:12px\;"><span style="font-family:arial\;">Comprehensive two-day course offering first aid and cardiopulmonary resuscitation (CPR) skills for those who need training due to work requirements or who want more knowledge to respond to emergencies at home. Course meets legislation requirements for provincial/territorial worker safety and insurance boards and includes the latest first aid and CPR guidelines.</span></span></p>\n\n<h4 style="caret-color: rgb(0\, 0\, 0)\; color: rgb(0\, 0\, 0)\; font-size: 1rem\; text-size-adjust: auto\; box-sizing: border-box\; margin: 0.2rem 0px 0.5rem\; padding: 0px\; font-family: &quot\;Open Sans&quot\;\, Arial\, sans-serif\; line-height: 1.25rem\;"><span style="font-size:12px\;"><span style="font-family:arial\;">Red Cross First Aid Instructor</span></span></h4>\n\n<h4 style="caret-color: rgb(0\, 0\, 0)\; color: rgb(0\, 0\, 0)\; font-size: 1rem\; text-size-adjust: auto\; box-sizing: border-box\; margin: 0.2rem 0px 0.5rem\; padding: 0px\; font-family: &quot\;Open Sans&quot\;\, Arial\, sans-serif\; line-height: 1.25rem\;"><span style="font-size:12px\;"><span style="font-family:arial\;">Completion Requirements:</span></span></h4>\n\n<ul>\n	<li style="caret-color: rgb(0\, 0\, 0)\; color: rgb(0\, 0\, 0)\; font-size: 14px\; text-size-adjust: auto\; box-sizing: border-box\; margin: 0px 0px 1rem\; padding: 0px\; font-family: &quot\;Open Sans&quot\;\, Arial\, sans-serif\; line-height: 1.6\;"><span style="font-size:12px\;"><span style="font-family:arial\;">Ability to comprehend and successfully demonstrate all required skills\, including critical steps\;</span></span></li>\n	<li style="caret-color: rgb(0\, 0\, 0)\; color: rgb(0\, 0\, 0)\; font-size: 14px\; text-size-adjust: auto\; box-sizing: border-box\; margin: 0px 0px 1rem\; padding: 0px\; font-family: &quot\;Open Sans&quot\;\, Arial\, sans-serif\; line-height: 1.6\;"><span style="font-size:12px\;"><span style="font-family:arial\;">100% attendance and participation\; 75% min. passing grade on a written\, closed book knowledge evaluation\; and adherence to the Fundamental Principles.</span></span></li>\n</ul>\n\n<h4 style="caret-color: rgb(0\, 0\, 0)\; color: rgb(0\, 0\, 0)\; font-size: 1rem\; text-size-adjust: auto\; box-sizing: border-box\; margin: 0.2rem 0px 0.5rem\; padding: 0px\; font-family: &quot\;Open Sans&quot\;\, Arial\, sans-serif\; line-height: 1.25rem\;"><span style="font-size:12px\;"><span style="font-family:arial\;">Certification:</span></span></h4>\n\n<ul>\n	<li style="caret-color: rgb(0\, 0\, 0)\; color: rgb(0\, 0\, 0)\; font-size: 14px\; text-size-adjust: auto\; box-sizing: border-box\; margin: 0px 0px 1rem\; padding: 0px\; font-family: &quot\;Open Sans&quot\;\, Arial\, sans-serif\; line-height: 1.6\;"><span style="font-size:12px\;"><span style="font-family:arial\;">3-year certification in Standard First Aid\, CPR Level A or C\, and AED</span></span></li>\n</ul>\n\n<h4 style="caret-color: rgb(0\, 0\, 0)\; color: rgb(0\, 0\, 0)\; font-size: 1rem\; text-size-adjust: auto\; box-sizing: border-box\; margin: 0.2rem 0px 0.5rem\; padding: 0px\; font-family: &quot\;Open Sans&quot\;\, Arial\, sans-serif\; line-height: 1.25rem\;"><span style="font-size:12px\;"><span style="font-family:arial\;">Course Content</span></span></h4>\n\n<ul style="caret-color: rgb(0\, 0\, 0)\; color: rgb(0\, 0\, 0)\; font-size: 1rem\; text-size-adjust: auto\; box-sizing: border-box\; margin: 0px\; padding-right: 0px\; padding-bottom: 1em\; padding-left: 1em\; line-height: 1.6\; list-style: none\; font-family: &quot\;Open Sans&quot\;\, Arial\, sans-serif\;">\n	<li style="box-sizing: border-box\; margin: 0px\; padding: 0px 0px 0.5em\; font-size: 0.875rem\;"><span style="font-size:12px\;"><span style="font-family:arial\;">The Red Cross</span></span></li>\n	<li style="box-sizing: border-box\; margin: 0px\; padding: 0px 0px 0.5em\; font-size: 0.875rem\;"><span style="font-size:12px\;"><span style="font-family:arial\;">Preparing to respond</span></span></li>\n	<li style="box-sizing: border-box\; margin: 0px\; padding: 0px 0px 0.5em\; font-size: 0.875rem\;"><span style="font-size:12px\;"><span style="font-family:arial\;">The EMS system</span></span></li>\n	<li style="box-sizing: border-box\; margin: 0px\; padding: 0px 0px 0.5em\; font-size: 0.875rem\;"><span style="font-size:12px\;"><span style="font-family:arial\;">Check\, Call\, Care</span></span></li>\n	<li style="box-sizing: border-box\; margin: 0px\; padding: 0px 0px 0.5em\; font-size: 0.875rem\;"><span style="font-size:12px\;"><span style="font-family:arial\;">Airway emergencies</span></span></li>\n	<li style="box-sizing: border-box\; margin: 0px\; padding: 0px 0px 0.5em\; font-size: 0.875rem\;"><span style="font-size:12px\;"><span style="font-family:arial\;">Breathing and Circulation emergencies</span></span></li>\n	<li style="box-sizing: border-box\; margin: 0px\; padding: 0px 0px 0.5em\; font-size: 0.875rem\;"><span style="font-size:12px\;"><span style="font-family:arial\;">First aid for respiratory and cardiac arrest</span></span></li>\n	<li style="box-sizing: border-box\; margin: 0px\; padding: 0px 0px 0.5em\; font-size: 0.875rem\;"><span style="font-size:12px\;"><span style="font-family:arial\;">Wound care</span></span></li>\n	<li style="box-sizing: border-box\; margin: 0px\; padding: 0px 0px 0.5em\; font-size: 0.875rem\;"><span style="font-size:12px\;"><span style="font-family:arial\;">Head and spine injuries</span></span></li>\n	<li style="box-sizing: border-box\; margin: 0px\; padding: 0px 0px 0.5em\; font-size: 0.875rem\;"><span style="font-size:12px\;"><span style="font-family:arial\;">Bone\, muscle and joint injuries</span></span></li>\n	<li style="box-sizing: border-box\; margin: 0px\; padding: 0px 0px 0.5em\; font-size: 0.875rem\;"><span style="font-size:12px\;"><span style="font-family:arial\;">Sudden Medical Emergencies</span></span></li>\n	<li style="box-sizing: border-box\; margin: 0px\; padding: 0px 0px 0.5em\; font-size: 0.875rem\;"><span style="font-size:12px\;"><span style="font-family:arial\;">Environmental Emergencies</span></span></li>\n	<li style="box-sizing: border-box\; margin: 0px\; padding: 0px 0px 0.5em\; font-size: 0.875rem\;"><span style="font-size:12px\;"><span style="font-family:arial\;">Poisons</span></span></li>\n	<li style="box-sizing: border-box\; margin: 0px\; padding: 0px 0px 0.5em\; font-size: 0.875rem\;"><span style="font-size:12px\;"><span style="font-family:arial\;">Includes any other content required by specific legislation</span></span></li>\n</ul>\n
LOCATION:Banff Caribou Lodge\, Woodland Conference Room 521 Banff Ave Banff\, AB
UID:e.9125.143
SEQUENCE:3
DTSTAMP:20260421T035716Z
URL:http://dev-bowda.chambermaster.com/events/details/red-cross-standard-first-aid-with-cpr-143
END:VEVENT

END:VCALENDAR
