BEGIN:VCALENDAR
VERSION:2.0
PRODID:-//ChamberMaster//Event Calendar 2.0//EN
METHOD:PUBLISH
X-PUBLISHED-TTL:P3D
REFRESH-INTERVAL:P3D
CALSCALE:GREGORIAN
BEGIN:VEVENT
DTSTART:20190411T233000Z
DTEND:20190412T013000Z
X-MICROSOFT-CDO-ALLDAYEVENT:FALSE
SUMMARY:Provincial Election: Candidates Forum
DESCRIPTION:BOWDA\, Bow Valley Chamber of Commerce\, Canmore Hotel & Lodging Association\, Downtown Canmore Business Improvement Area\, and Tourism Canmore Kananaskis are partnering to host a Candidates Forum on Thursday\, April 11th from 5:30 to 7:30pm. Come out to hear from the candidates on key business and community issues prior to voting in the April 16th election. \n\n\n\nIf you cannot attend in person\, Rocky Mountain Outlook will be livestreaming the forum on their Facebook page.\n\n\n\nWhen you register\, you can include a question that you would like us to consider asking the candidates. Please note that\, due to time limitations\, not all questions will be able to be asked of the candidates. However\, you will have the opportunity to meet and talk to the candidates before and after the forum.
X-ALT-DESC;FMTTYPE=text/html:BOWDA\, Bow Valley Chamber of Commerce\, Canmore Hotel &amp\; Lodging Association\, Downtown Canmore Business Improvement Area\, and Tourism Canmore Kananaskis are partnering to host a Candidates Forum on Thursday\, April 11th from 5:30 to 7:30pm. Come out to hear from the candidates on key business and community issues prior to voting in the April 16th election.&nbsp\;<br />\n<br />\nIf you cannot attend in person\, Rocky Mountain Outlook will be livestreaming the forum on their Facebook page.<br />\n<br />\nWhen you register\, you can include a question that you would like us to consider asking the candidates. Please note that\, due to time limitations\, not all questions will be able to be asked of the candidates. However\, you will have the opportunity to meet and talk to the candidates before and after the forum.
LOCATION:The Malcolm Hotel Edinburgh Ballroom 321 Spring Creek Drive Canmore\, Alberta
UID:e.9125.129
SEQUENCE:3
DTSTAMP:20260426T043028Z
URL:http://dev-bowda.chambermaster.com/events/details/provincial-election-candidates-forum-129
END:VEVENT

END:VCALENDAR
