BEGIN:VCALENDAR
VERSION:2.0
PRODID:-//ChamberMaster//Event Calendar 2.0//EN
METHOD:PUBLISH
X-PUBLISHED-TTL:P3D
REFRESH-INTERVAL:P3D
CALSCALE:GREGORIAN
BEGIN:VEVENT
DTSTART:20210513T180000Z
DTEND:20210513T185000Z
X-MICROSOFT-CDO-ALLDAYEVENT:FALSE
SUMMARY:May Luncheon
DESCRIPTION:Join us on May 13th for our monthly luncheon where Minister of Infrastructure\, the Honourable Prasad Panda MLA Calgary-Edgemont\, will provide us an update and share how our Government is working towards recovery. We will also receive an update from the Alberta World Cup organizing committee and our Executive Director Ian O'Donnell on current issues facing our members.
X-ALT-DESC;FMTTYPE=text/html:Join us on May 13th for our monthly luncheon where Minister of Infrastructure\, the Honourable Prasad Panda MLA Calgary-Edgemont\, will provide us an update and share how our Government is working towards recovery. We will also receive an update from the Alberta World Cup organizing committee and our Executive Director Ian O&#39\;Donnell on current issues facing our members.<br />\n<br />\n&nbsp\;
LOCATION:Events BOWDA is inviting you to a scheduled Zoom meeting. Topic: Events BOWDA's Zoom Meeting Time: May 13\, 2021 12:00 PM Edmonton Join Zoom Meeting https://us02web.zoom.us/j/84388435747?pwd=bFB3ek50Q0lON0xReW5vbU1YYW5Kdz09 Meeting ID: 843 8843 5747 Passcode: 040794 One tap mobile +17789072071\,\,84388435747#\,\,\,\,*040794# Canada +12042727920\,\,84388435747#\,\,\,\,*040794# Canada Dial by your location +1 778 907 2071 Canada +1 204 272 7920 Canada +1 438 809 7799 Canada +1 587 328 1099 Canada +1 647 374 4685 Canada +1 647 558 0588 Canada +1 929 205 6099 US (New York) +1 253 215 8782 US (Tacoma) +1 301 715 8592 US (Washington DC) +1 312 626 6799 US (Chicago) +1 346 248 7799 US (Houston) +1 669 900 6833 US (San Jose) Meeting ID: 843 8843 5747 Passcode: 040794 Find your local number: https://us02web.zoom.us/u/kbTzrNGobg
UID:e.9125.161
SEQUENCE:3
DTSTAMP:20260420T005352Z
URL:http://dev-bowda.chambermaster.com/events/details/may-luncheon-161
END:VEVENT

END:VCALENDAR
