BEGIN:VCALENDAR
VERSION:2.0
PRODID:-//ChamberMaster//Event Calendar 2.0//EN
METHOD:PUBLISH
X-PUBLISHED-TTL:P3D
REFRESH-INTERVAL:P3D
CALSCALE:GREGORIAN
BEGIN:VEVENT
DTSTART:20200910T193000Z
DTEND:20200910T230000Z
X-MICROSOFT-CDO-ALLDAYEVENT:FALSE
SUMMARY:Golf Event. BOWDA. Sept 10\, 2020
DESCRIPTION:BOWDA 25 year celebration golf event.\n\n\n\nThe 9 hole golf event will start with tee offs at 1:30\, and the intent is to keep it simple with no prizes\, no specific format. If the group you are golfing with wants to establish your own format\, that is fine.  There will not be a formal program after the golf event\, however you are welcome to stay after golfing and enjoy time with other BOWDA members in Stoneys bar at Silvertip.
X-ALT-DESC;FMTTYPE=text/html:<span style="font-size:12px\;"><span style="font-family:arial\;">BOWDA 25 year celebration golf event.<br />\n<br />\n<span style="caret-color: rgb(0\, 0\, 0)\; color: rgb(0\, 0\, 0)\; text-size-adjust: auto\;">The 9 hole golf event will start with tee offs at 1:30\, and the intent is to keep it simple with no prizes\, no specific format. If the group you are golfing with wants to establish your own format\, that is fine.&nbsp\; There will not be a formal program after the golf event\, however you are welcome to stay after golfing and enjoy time with other BOWDA members in Stoneys bar at Silvertip.</span></span></span>
LOCATION:Silvertip Golf Resort Canmore\, AB
UID:e.9125.150
SEQUENCE:3
DTSTAMP:20260420T053810Z
URL:http://dev-bowda.chambermaster.com/events/details/golf-event-bowda-sept-10-2020-150
END:VEVENT

END:VCALENDAR
