BEGIN:VCALENDAR
VERSION:2.0
PRODID:-//ChamberMaster//Event Calendar 2.0//EN
METHOD:PUBLISH
X-PUBLISHED-TTL:P3D
REFRESH-INTERVAL:P3D
CALSCALE:GREGORIAN
BEGIN:VEVENT
DTSTART:20201008T173000Z
DTEND:20201008T191500Z
X-MICROSOFT-CDO-ALLDAYEVENT:FALSE
SUMMARY:Building Sustainable Communities: Lessons Learned
DESCRIPTION:Dale Mikkelsen\, VP of Development for UniverCity\, in Burnaby BC. Dale will be talking about Building Sustainable Communities: Lessons Learned...if it worked there\, will it work here? Some of the lessons may be transferable to the Bow Valley\, some may not be. \n\n\n\nAs VP of Development\, Dale's role is to raise the bar of sustainable community planning to ensure UniverCity remains on the leading edge of energy efficiency\, material conservation\, healthy environments and community building.\n\n\n\nDale is also on the board for Whistler Housing Authority and is in charge of their construction projects for affordable housing. They design and build to the Passive House standard to increase the affordability of subsidized housing.\n\n\n\nDale will be joining us virtually\, from his own passive house home office in Whistler.
X-ALT-DESC;FMTTYPE=text/html:Dale Mikkelsen\, VP of Development for UniverCity\, in Burnaby BC. Dale will be talking about Building Sustainable Communities: Lessons Learned...if it worked there\, will it work here? Some of the lessons may be transferable to the Bow Valley\, some may not be.&nbsp\;<br />\n<br />\nAs VP of Development\, Dale&#39\;s role is to raise the bar of sustainable community planning to ensure UniverCity remains on the leading edge of energy efficiency\, material conservation\, healthy environments and community building.<br />\n<br />\nDale is also on the board for Whistler Housing Authority and is in charge of their construction projects for affordable housing. They design and build to the Passive House standard to increase the affordability of subsidized housing.<br />\n<br />\nDale will be joining us virtually\, from his own passive house home office in Whistler.
LOCATION:Lunch will be at Silvertip Resort in Canmore. We will be following all AHS guidelines to ensure the safety of our members and the Silvertip staff. Registration for those attending in-person will be limited and attendees will be in 2 separated rooms\, with reduced capacity to ensure physical distancing is maintained. For those that do not want to attend in-person\, an online / virtual option is available. Virtual attendees will receive an email the day prior to the lunch with the Zoom sign in information. The Zoom part of the meeting will start at 12:30\, just prior to the speaker starting at 12:35.
UID:e.9125.151
SEQUENCE:3
DTSTAMP:20260420T053810Z
URL:http://dev-bowda.chambermaster.com/events/details/building-sustainable-communities-lessons-learned-151
END:VEVENT

END:VCALENDAR
