BEGIN:VCALENDAR
VERSION:2.0
PRODID:-//ChamberMaster//Event Calendar 2.0//EN
METHOD:PUBLISH
X-PUBLISHED-TTL:P3D
REFRESH-INTERVAL:P3D
CALSCALE:GREGORIAN
BEGIN:VEVENT
DTSTART:20201208T220000Z
DTEND:20201208T230000Z
X-MICROSOFT-CDO-ALLDAYEVENT:FALSE
SUMMARY:Building Code requirements outside of 10-minute response area.
DESCRIPTION:Douglas Stewart\, Building Safety Codes Officer with Superior Safety Codes will be our guest for a webinar to discuss the building code options for building outside the 10-minute fire response area. He is also available for Q&A on other items of interest to builders.
X-ALT-DESC;FMTTYPE=text/html:Douglas Stewart\, Building Safety Codes Officer with Superior Safety Codes will be our guest for a webinar to discuss the building code options for building outside the 10-minute fire response area. He is also available for Q&amp\;A on other items of interest to builders.
LOCATION:Virtual zoom meeting. You will receive the sign in details separately.
UID:e.9125.156
SEQUENCE:3
DTSTAMP:20260420T080341Z
URL:http://dev-bowda.chambermaster.com/events/details/building-code-requirements-outside-of-10-minute-response-area-156
END:VEVENT

END:VCALENDAR
