BEGIN:VCALENDAR
VERSION:2.0
PRODID:-//ChamberMaster//Event Calendar 2.0//EN
METHOD:PUBLISH
X-PUBLISHED-TTL:P3D
REFRESH-INTERVAL:P3D
CALSCALE:GREGORIAN
BEGIN:VEVENT
DTSTART:20210211T190000Z
DTEND:20210211T200000Z
X-MICROSOFT-CDO-ALLDAYEVENT:FALSE
SUMMARY:BOWDA Virtual Lunch\, Feb 11\, 2021
DESCRIPTION:Town of Banff Update. Randall McKay and Darren Enns will provide us with a look back at development planning for the last few years in Banff and a look forward to the key issues and opportunities for this iconic mountain town.\n\n\n\nNote that we have upgraded our zoom account to allow more than 100 people to attend a virtual event!
X-ALT-DESC;FMTTYPE=text/html:<span style="caret-color: rgb(0\, 0\, 0)\; color: rgb(0\, 0\, 0)\; font-family: Calibri\, sans-serif\; font-size: 14.6667px\; text-size-adjust: auto\;">Town of Banff Update. Randall McKay and Darren Enns will provide us with a look back at development planning for the last few years in Banff and a look forward to the key issues and opportunities for this iconic mountain town.</span><br />\n<br />\nNote that we have upgraded our zoom account to allow more than 100 people to attend a virtual event!
LOCATION:Virtual lunch log in details will be sent to you after you register.
UID:e.9125.158
SEQUENCE:3
DTSTAMP:20260420T225344Z
URL:http://dev-bowda.chambermaster.com/events/details/bowda-virtual-lunch-feb-11-2021-158
END:VEVENT

END:VCALENDAR
