BEGIN:VCALENDAR
VERSION:2.0
PRODID:-//ChamberMaster//Event Calendar 2.0//EN
METHOD:PUBLISH
X-PUBLISHED-TTL:P3D
REFRESH-INTERVAL:P3D
CALSCALE:GREGORIAN
BEGIN:VEVENT
DTSTART:20200416T180000Z
DTEND:20200416T183000Z
X-MICROSOFT-CDO-ALLDAYEVENT:FALSE
SUMMARY:BOWDA Virtual AGM (Video Conference)
DESCRIPTION:We are having a virtual Annual General Meeting (AGM) for BOWDA this year! Please register so that we know who is attending and ensure that we have quorum (25% of the voting members). Although we won't be meeting in person\, we will still provide an update on what BOWDA has been doing\, and our focus for 2020\, approve the financial statements\, and elect the board of directors. Consider ordering your lunch and a beverage of your choice from a local restaurant that is doing take-out\, and join us for the BOWDA AGM on Thursday\, April 16\, 2020 at 12 noon.
X-ALT-DESC;FMTTYPE=text/html:We are having a virtual Annual General Meeting (AGM) for BOWDA this year! Please register so that we know who is attending and ensure that we have quorum (25% of the voting members). Although we won&#39\;t be meeting in person\, we will still provide an update on what BOWDA has been doing\, and our focus for 2020\, approve the financial statements\, and elect the board of directors. Consider ordering your lunch and a beverage of your choice from a local restaurant that is doing take-out\, and join us for the BOWDA AGM on Thursday\, April 16\, 2020 at 12 noon.
LOCATION:Video conference via Zoom Media. We will provide the technical information about how to log in to the meeting closer to the AGM.
UID:e.9125.147
SEQUENCE:3
DTSTAMP:20260420T212125Z
URL:http://dev-bowda.chambermaster.com/events/details/bowda-virtual-agm-video-conference-147
END:VEVENT

END:VCALENDAR
