BEGIN:VCALENDAR
VERSION:2.0
PRODID:-//ChamberMaster//Event Calendar 2.0//EN
METHOD:PUBLISH
X-PUBLISHED-TTL:P3D
REFRESH-INTERVAL:P3D
CALSCALE:GREGORIAN
BEGIN:VEVENT
DTSTART:20200109T183000Z
DTEND:20200109T201500Z
X-MICROSOFT-CDO-ALLDAYEVENT:FALSE
SUMMARY:BOWDA Luncheon - Thursday\, January 9\, 2020
DESCRIPTION:Bow Valley Builders and Developers Association Luncheon\, Thursday Jan 9\, 2020\n\n\n\nTopic: Annual State of the Union address\n\nPresented by: Mayor John Borrowman \n\n\n\nOn January 9th\, Mayor Borrowman will give us an update on the Town of Canmore. In 2018\, Council approved a 4 year strategic plan\, which lays out the Town's priorities for 2019 through 2022. Mayor Borrowman will update us on those priorities\, and what the Town has done to achieve these strategic goals.
X-ALT-DESC;FMTTYPE=text/html:<span style="font-family:arial\;"><span style="font-size: 14px\;"><strong><span style="color: black\;">Bow Valley Builders and Developers Association Luncheon\, Thursday Jan 9\, 2020</span></strong><br />\n<br />\n<span style="color: black\;"><strong>Topic:&nbsp\;</strong></span></span></span><span style="color: rgb(0\, 0\, 0)\; font-family: arial\; font-size: 14px\; line-height: normal\;">Annual State of the Union address</span><br />\n<span style="font-family:arial\;"><span style="font-size: 14px\;"><span style="color: black\;"><strong>Presented by:</strong>&nbsp\;Mayor John Borrowman&nbsp\;<br />\n<br />\nOn January 9th\, Mayor Borrowman will give us an update on the Town of Canmore. In 2018\, Council approved a 4 year strategic plan\, which lays out the Town&#39\;s priorities for 2019 through 2022. Mayor Borrowman will update us on those priorities\, and what the Town has done to achieve these strategic goals.</span></span></span>
LOCATION:Silvertip Golf Resort Pavilion 2000 Silvertip Trail Canmore\, AB T1W 3J4
UID:e.9125.139
SEQUENCE:3
DTSTAMP:20260422T073022Z
URL:http://dev-bowda.chambermaster.com/events/details/bowda-luncheon-thursday-january-9-2020-139
END:VEVENT

END:VCALENDAR
