BEGIN:VCALENDAR
VERSION:2.0
PRODID:-//ChamberMaster//Event Calendar 2.0//EN
METHOD:PUBLISH
X-PUBLISHED-TTL:P3D
REFRESH-INTERVAL:P3D
CALSCALE:GREGORIAN
BEGIN:VEVENT
DTSTART:20200213T183000Z
DTEND:20200213T201500Z
X-MICROSOFT-CDO-ALLDAYEVENT:FALSE
SUMMARY:BOWDA Luncheon - Thursday\, February 13\, 2020
DESCRIPTION:Bow Valley Builders and Developers Association Luncheon\, Thursday Feb 13\, 2020\n\n\n\nTopic: Alberta Economic Update\n\nPresented by: Todd Hirsch\, Chief Economist\, ATB Financial \n\n\n\nWhat are the current trends and issues that impact the global economy\, and how will these impact Alberta and the Bow Valley. Todd's presentations are always informative\, engaging\, and very easy to understand and apply.
X-ALT-DESC;FMTTYPE=text/html:<span style="color:#000000\;"><span style="font-size:14px\;"><span style="font-family:arial\;"><strong>Bow Valley Builders and Developers Association Luncheon\, Thursday Feb 13\, 2020</strong><br />\n<br />\n<strong>Topic:&nbsp\;</strong><span style="line-height: normal\;">Alberta Economic Update</span><br />\n<strong>Presented by:</strong>&nbsp\;Todd Hirsch\, Chief Economist\, ATB Financial&nbsp\;<br />\n<br />\nWhat are the current trends and issues that impact the global economy\, and how will these impact Alberta and the Bow Valley. Todd&#39\;s presentations are always informative\, engaging\, and very easy to understand and apply.</span></span></span>
LOCATION:Silvertip Golf Resort Pavilion 2000 Silvertip Trail Canmore\, AB T1W 3J4
UID:e.9125.141
SEQUENCE:3
DTSTAMP:20260422T013145Z
URL:http://dev-bowda.chambermaster.com/events/details/bowda-luncheon-thursday-february-13-2020-141
END:VEVENT

END:VCALENDAR
