BEGIN:VCALENDAR
VERSION:2.0
PRODID:-//ChamberMaster//Event Calendar 2.0//EN
METHOD:PUBLISH
X-PUBLISHED-TTL:P3D
REFRESH-INTERVAL:P3D
CALSCALE:GREGORIAN
BEGIN:VEVENT
DTSTART:20190912T173000Z
DTEND:20190912T191500Z
X-MICROSOFT-CDO-ALLDAYEVENT:FALSE
SUMMARY:BOWDA Lunch. Sustainable Building Design and Energy Efficiency
DESCRIPTION:Professor Tang Lee: Sustainable Building Design and Energy Efficiency\n\n \n\nProfessor Tang Lee's expertise in the building industry comes from 41 years of teaching and research on building design\, materials and building codes. He has also been a practicing architect since 1980 and continues to design solar heated\, healthy and sustainable buildings. \n\nProfessor Tang Lee has been teaching building science\, sustainable design\, indoor air quality\, lighting and acoustics\, as well as mechanical (HVAC) and civil (masonry) engineering at several universities in Canada and abroad. He is qualified as an expert witness in the areas of building science\, building codes\, architecture\, indoor air quality\, and general health. Professor Lee was appointed to the National Building Code of Canada to update Part 5 of the 2015 and 2020 building codes. He serves on several committees of Health Canada\, National Research Council of Canada\, and the Canadian Construction Materials Centre.
X-ALT-DESC;FMTTYPE=text/html:<span style="font-size:12px\;"><span style="font-family:arial\;"><strong><span style="color:black\;">Professor Tang Lee: Sustainable Building Design and Energy Efficiency</span></strong><br />\n&nbsp\;<br />\n<span style="color:black\;">Professor Tang Lee&rsquo\;s expertise in the building industry comes from 41 years of teaching and research on building design\, materials and building codes. He has also been a practicing architect since 1980 and continues to design solar heated\, healthy and sustainable buildings. </span><br />\n<span style="color:black\;">Professor Tang Lee has been teaching building science\, sustainable design\, indoor air quality\, lighting and acoustics\, as well as mechanical (HVAC) and civil (masonry) engineering at several universities in Canada and abroad. He is qualified as an expert witness in the areas of building science\, building codes\, architecture\, indoor air quality\, and general health. Professor Lee was</span><span style="color:black\;">&nbsp\;appointed to the National Building Code of Canada to update Part 5 of the 2015 and 2020 building codes.&nbsp\;He </span><span style="color:black\;">serves on several committees of Health Canada\, National Research Council of Canada\, and the Canadian Construction Materials Centre. </span></span></span><br />\n&nbsp\;
LOCATION:Silvertip Resort Canmore\, Alberta
UID:e.9125.131
SEQUENCE:3
DTSTAMP:20260424T173905Z
URL:http://dev-bowda.chambermaster.com/events/details/bowda-lunch-sustainable-building-design-and-energy-efficiency-131
END:VEVENT

END:VCALENDAR
