BEGIN:VCALENDAR
VERSION:2.0
PRODID:-//ChamberMaster//Event Calendar 2.0//EN
METHOD:PUBLISH
X-PUBLISHED-TTL:P3D
REFRESH-INTERVAL:P3D
CALSCALE:GREGORIAN
BEGIN:VEVENT
DTSTART:20191212T183000Z
DTEND:20191212T203000Z
X-MICROSOFT-CDO-ALLDAYEVENT:FALSE
SUMMARY:BOWDA Christmas Luncheon - Thursday\, December 12\, 2019
DESCRIPTION:BOWDA Christmas Luncheon on Thursday\, December 12\, 2019.\n\n\n\nThis event sells out fast\, so we encourage you to register early! The luncheon starts at 11:30 with the sponsored bar. At 12 noon we will start the Christmas tie auction and fund-raiser. Last year's winners: Jody Scarlett of ProStar Cleaning & Restoration\, and Vicki Young of Riverstone Insurance will show us the travels of the tie since last Christmas...did they really make it into a Christmas purse? We will then start the fund-raising for the two charities\, which we will announce Dec 2nd. Please come prepared to make a pledge\, and bring your cheque book so that you can fulfil the pledge right away!\n\n\n\nIf you have not already done so\, please complete the survey to determine which of the 6 short-listed charities we will be supporting. Please do so by Friday\, Nov 29th.\n\n\n\nFollowing the fund-raising\, we will be treated to Christmas Jazz by Fig Fusion\, featuring Leanne Decoteau. This is sure to put you into the Christmas spirit!\n\n\n\nWhen you register\, you can also sponsor an "elf" for the Christmas lunch. The administrative staff at the MD of Bighorn\, Town of Banff and Town of Canmore do so much behind the scenes. This is an opportunity to buy them lunch so that they can attend and get some well deserved time away from the office!
X-ALT-DESC;FMTTYPE=text/html:<span style="font-family:arial\;"><span style="font-size: 14px\;"><strong><span style="color: black\;">BOWDA Christmas Luncheon on Thursday\, December 12\, 2019.</span></strong><br />\n<br />\n<font color="#000000">This event sells out fast\, so we encourage you to register early! The luncheon starts at 11:30 with the sponsored bar. At 12 noon we will start the Christmas tie auction and fund-raiser. Last year&#39\;s winners: Jody Scarlett of ProStar Cleaning &amp\; Restoration\, and Vicki Young of Riverstone Insurance will show us the travels of the tie since last Christmas...did they really make it into a Christmas purse? We will then start the fund-raising for the two charities\, which we will announce Dec 2nd. Please come prepared to make a pledge\, and bring your cheque book so that you can fulfil the pledge right away!<br />\n<br />\nIf you have not already done so\, <a href="https://www.surveymonkey.com/r/HDQGBK3">please complete the survey</a> to determine which of the 6 short-listed charities we will be supporting. Please do so by Friday\, Nov 29th.<br />\n<br />\nFollowing the fund-raising\, we will be treated to Christmas Jazz by Fig Fusion\, featuring Leanne Decoteau. This is sure to put you into the Christmas spirit!<br />\n<br />\nWhen you register\, you can also sponsor an &quot\;elf&quot\; for the Christmas lunch. The administrative staff at the MD of Bighorn\, Town of Banff and Town of Canmore do so much behind the scenes. This is an opportunity to buy them lunch so that they can attend and get some well deserved time away from the office!</font></span></span><br />\n&nbsp\;
LOCATION:Silvertip Golf Resort Pavillion 2000 Silvertip Trail Canmore\, AB T1W 3J4
UID:e.9125.138
SEQUENCE:3
DTSTAMP:20260421T194620Z
URL:http://dev-bowda.chambermaster.com/events/details/bowda-christmas-luncheon-thursday-december-12-2019-138
END:VEVENT

END:VCALENDAR
