BEGIN:VCALENDAR
VERSION:2.0
PRODID:-//ChamberMaster//Event Calendar 2.0//EN
METHOD:PUBLISH
X-PUBLISHED-TTL:P3D
REFRESH-INTERVAL:P3D
CALSCALE:GREGORIAN
BEGIN:VEVENT
DTSTART:20201028T010000Z
DTEND:20201028T030000Z
X-MICROSOFT-CDO-ALLDAYEVENT:FALSE
SUMMARY:BOWDA Builders & Brews
DESCRIPTION:BOWDA Builders & Brews is an opportunity for our builder members to get together in an informal setting\, talk about issues impacting the building industry in the Bow Valley\, or talk about whatever you want to talk about! There is no set agenda\, however we (Bobby Richardson\, Ron Remple) will probably have a couple of issues that we will put out for discussion and feedback.\n\n\n\nAlthough there is no charge to attend\, please register so that we know how many people will attend and can order enough appetizers.
X-ALT-DESC;FMTTYPE=text/html:BOWDA Builders &amp\; Brews is an opportunity for our builder members to get together in an informal setting\, talk about issues impacting the building industry in the Bow Valley\, or talk about whatever you want to talk about! There is no set agenda\, however we (Bobby Richardson\, Ron Remple) will probably have a couple of issues that we will put out for discussion and feedback.<br />\n<br />\nAlthough there is no charge to attend\, please register so that we know how many people will attend and can order enough appetizers.
LOCATION:Iron Goat\, Upstairs
UID:e.9125.152
SEQUENCE:3
DTSTAMP:20260420T001837Z
URL:http://dev-bowda.chambermaster.com/events/details/bowda-builders-brews-152
END:VEVENT

END:VCALENDAR
