BEGIN:VCALENDAR
VERSION:2.0
PRODID:-//ChamberMaster//Event Calendar 2.0//EN
METHOD:PUBLISH
X-PUBLISHED-TTL:P3D
REFRESH-INTERVAL:P3D
CALSCALE:GREGORIAN
BEGIN:VEVENT
DTSTART:20210408T180000Z
DTEND:20210408T184500Z
X-MICROSOFT-CDO-ALLDAYEVENT:FALSE
SUMMARY:Annual General Meeting - Virtual
DESCRIPTION:2021 Bow Valley Builders and Developers Association Annual General Meeting\n\n\n\nAlong with our regular AGM business\, you will receive an update from Ottawa on The State of Canada's Recovery from Mr. Blake Richards\, Member of Parliament for Banff-Airdrie\, along with an update from our new Executive Director\, Ian O'Donnell.
X-ALT-DESC;FMTTYPE=text/html:<span style="font-size:14px\;"><span style="font-family:arial\;">2021 Bow Valley Builders and Developers Association Annual General Meeting<br />\n<br />\nAlong with our regular AGM business\, you will receive an update from Ottawa on&nbsp\;<span style="color: rgb(32\, 31\, 30)\;">The State of Canada&#39\;s Recovery</span> from&nbsp\;Mr. Blake Richards\,&nbsp\;Member of Parliament for Banff-Airdrie\, along with an update from our new Executive Director\, Ian O&#39\;Donnell.</span></span>
LOCATION:Events BOWDA is inviting you to a scheduled Zoom meeting. Topic: Events BOWDA's Zoom Meeting Time: Apr 8\, 2021 12:00 PM Edmonton Join Zoom Meeting https://us02web.zoom.us/j/82511418555?pwd=QUNBMndrTGovNFRFN21CSGJOWjBKUT09 Meeting ID: 825 1141 8555 Passcode: 160154 One tap mobile +16473744685\,\,82511418555#\,\,\,\,*160154# Canada +16475580588\,\,82511418555#\,\,\,\,*160154# Canada Dial by your location +1 647 374 4685 Canada +1 647 558 0588 Canada +1 778 907 2071 Canada +1 204 272 7920 Canada +1 438 809 7799 Canada +1 587 328 1099 Canada +1 346 248 7799 US (Houston) +1 669 900 6833 US (San Jose) +1 929 205 6099 US (New York) +1 253 215 8782 US (Tacoma) +1 301 715 8592 US (Washington DC) +1 312 626 6799 US (Chicago) Meeting ID: 825 1141 8555 Passcode: 160154 Find your local number: https://us02web.zoom.us/u/kgkvvKzjt
UID:e.9125.160
SEQUENCE:3
DTSTAMP:20260419T232918Z
URL:http://dev-bowda.chambermaster.com/events/details/annual-general-meeting-virtual-160
END:VEVENT

END:VCALENDAR
